BEGIN:VCALENDAR
VERSION:2.0
PRODID:-//ASARECA - ECPv6.14.2//NONSGML v1.0//EN
CALSCALE:GREGORIAN
METHOD:PUBLISH
X-ORIGINAL-URL:https://www.asareca.org
X-WR-CALDESC:Events for ASARECA
REFRESH-INTERVAL;VALUE=DURATION:PT1H
X-Robots-Tag:noindex
X-PUBLISHED-TTL:PT1H
BEGIN:VTIMEZONE
TZID:UTC
BEGIN:STANDARD
TZOFFSETFROM:+0000
TZOFFSETTO:+0000
TZNAME:UTC
DTSTART:20230101T000000
END:STANDARD
END:VTIMEZONE
BEGIN:VEVENT
DTSTART;VALUE=DATE:20231002
DTEND;VALUE=DATE:20231005
DTSTAMP:20260420T085226
CREATED:20231031T085943Z
LAST-MODIFIED:20231031T090501Z
UID:8795-1696204800-1696463999@www.asareca.org
SUMMARY:World Agri-Food Innovation Forum (WAFI)
DESCRIPTION:Dates: 2-4 November\, 2023 \nVenue: Pinggu District\, Beijing\, China \nKey information: Under the theme\, Empowering Agrifood Innovation: Bridging Science\, Technology\, and Global Food Security\, the Forum is hosted by Beijing’s municipal government. The inaugural World Agrifood Innovation (WAFI) Conference\, is co-organised with government and several key stakeholders\, including China Agricultural University and CGIAR\, the event centers on the theme “Food Security & Future Agrifood.” It aims to foster international exchanges\, stimulate discussions on the latest agrifood innovations\, and promote industry-university collaborations. The conference comprises a main forum\, four thematic forums—including ones for university presidents and entrepreneurs—and the World Agrifood Science and Tech Expo. Parallel and sub-forums will cover areas such as smart agrifood\, bio breeding\, and sustainable development. International attendees\, from scientists to students\, are invited to contribute and collaborate. \nRead more
URL:https://www.asareca.org/event/world-agri-food-innovation-forum-wafi/
LOCATION:Pinggu District\, Beijing\, China
CATEGORIES:Upcoming Event
END:VEVENT
END:VCALENDAR