BEGIN:VCALENDAR
VERSION:2.0
PRODID:-//ASARECA - ECPv6.14.2//NONSGML v1.0//EN
CALSCALE:GREGORIAN
METHOD:PUBLISH
X-WR-CALNAME:ASARECA
X-ORIGINAL-URL:https://www.asareca.org
X-WR-CALDESC:Events for ASARECA
REFRESH-INTERVAL;VALUE=DURATION:PT1H
X-Robots-Tag:noindex
X-PUBLISHED-TTL:PT1H
BEGIN:VTIMEZONE
TZID:UTC
BEGIN:STANDARD
TZOFFSETFROM:+0000
TZOFFSETTO:+0000
TZNAME:UTC
DTSTART:20230101T000000
END:STANDARD
END:VTIMEZONE
BEGIN:VEVENT
DTSTART;VALUE=DATE:20231028
DTEND;VALUE=DATE:20231103
DTSTAMP:20260420T074244
CREATED:20231031T085655Z
LAST-MODIFIED:20231031T085655Z
UID:8792-1698451200-1698969599@www.asareca.org
SUMMARY:Ruforum 19th AGM
DESCRIPTION:Dates: 28th October to 2nd November 2023\, \nVenue: Yaoundé\, Cameroon \nKey Information: The RUFORUM 19th AGM is hosted by the Government of the Republic of Cameroon and member universities in Cameroon from 29th October to 3rd November 2023 in Yaoundé\, Cameroon. The theme 19th RUFORUM AGM has a particular focus on engaging governments and development partners to support Higher Education in Africa and is organised under the theme “Transforming Higher Education to Sustainably Feed and Create Prosperity for Africa”. \nRead more
URL:https://www.asareca.org/event/ruforum-19th-agm/
LOCATION:Yaoundé\, Cameroon
CATEGORIES:Upcoming Event
END:VEVENT
BEGIN:VEVENT
DTSTART;VALUE=DATE:20231030
DTEND;VALUE=DATE:20231103
DTSTAMP:20260420T074244
CREATED:20231031T083809Z
LAST-MODIFIED:20231031T083809Z
UID:8789-1698624000-1698969599@www.asareca.org
SUMMARY:The 1st African Conference of Agricultural Technology (ACAT)
DESCRIPTION:Dates: October 30 to November 2\, 2023\nVenue: Safari PARK Hotel\, Nairobi\, Kenya \nKey information: AATF\, will hold in the 1st African Conference of Agricultural Technology (ACAT)\, which is expected to bring together a dynamic community of agricultural researchers\, policymakers\, industry leaders\, and innovators to exchange ideas\, share best practices\, and explore innovative solutions that can enhance agricultural productivity in Africa. Themed “Agricultural Resilience through Innovation\,” the conference focuses on the centrality of science\, technology\, and innovation (STI) in fostering agricultural transformation on the continent. It will also provide an opportunity for in-depth discussions and consensus building on the barriers to technology development and transfer and generate higher policy-level interest at the continental level to resolve the identified challenges. \nRead more
URL:https://www.asareca.org/event/the-1st-african-conference-of-agricultural-technology-acat/
LOCATION:Safari PARK Hotel\, Nairobi\, Kenya
CATEGORIES:Upcoming Event
END:VEVENT
END:VCALENDAR