BEGIN:VCALENDAR
VERSION:2.0
PRODID:-//ASARECA - ECPv6.14.2//NONSGML v1.0//EN
CALSCALE:GREGORIAN
METHOD:PUBLISH
X-ORIGINAL-URL:https://www.asareca.org
X-WR-CALDESC:Events for ASARECA
REFRESH-INTERVAL;VALUE=DURATION:PT1H
X-Robots-Tag:noindex
X-PUBLISHED-TTL:PT1H
BEGIN:VTIMEZONE
TZID:UTC
BEGIN:STANDARD
TZOFFSETFROM:+0000
TZOFFSETTO:+0000
TZNAME:UTC
DTSTART:20230101T000000
END:STANDARD
END:VTIMEZONE
BEGIN:VEVENT
DTSTART;VALUE=DATE:20231105
DTEND;VALUE=DATE:20231112
DTSTAMP:20260420T073409
CREATED:20231031T082932Z
LAST-MODIFIED:20231031T083046Z
UID:8786-1699142400-1699747199@www.asareca.org
SUMMARY:The 6th Africa Wide Agricultural Extension Week 2023
DESCRIPTION:Key information: Under the theme Harnessing AEAS in Scaling Regenerative Agriculture and Nature Based Solutions for Food System Transformation in Africa\, the AFAAS convened Africa Wide Agricultural Extension Week is a unique avenue for sharing experiences and learning between professionals from different backgrounds\, strengthening interactions with policy-makers and investors and developing strategic partnerships. In addition\, the AAEW provides a platform to discuss AFAAS strategic directions and functioning\, new developments\, emerging needs\, paradigms and defining new directions for AEAS for the coming years. \nRead more
URL:https://www.asareca.org/event/the-6th-africa-wide-agricultural-extension-week-2023/
LOCATION:Abuja\, Nigeria
CATEGORIES:Upcoming Event
END:VEVENT
END:VCALENDAR