BEGIN:VCALENDAR
VERSION:2.0
PRODID:-//ASARECA - ECPv6.14.2//NONSGML v1.0//EN
CALSCALE:GREGORIAN
METHOD:PUBLISH
X-WR-CALNAME:ASARECA
X-ORIGINAL-URL:https://www.asareca.org
X-WR-CALDESC:Events for ASARECA
REFRESH-INTERVAL;VALUE=DURATION:PT1H
X-Robots-Tag:noindex
X-PUBLISHED-TTL:PT1H
BEGIN:VTIMEZONE
TZID:UTC
BEGIN:STANDARD
TZOFFSETFROM:+0000
TZOFFSETTO:+0000
TZNAME:UTC
DTSTART:20230101T000000
END:STANDARD
END:VTIMEZONE
BEGIN:VEVENT
DTSTART;VALUE=DATE:20231130
DTEND;VALUE=DATE:20231213
DTSTAMP:20260420T072936
CREATED:20231115T161341Z
LAST-MODIFIED:20231115T161341Z
UID:10276-1701302400-1702425599@www.asareca.org
SUMMARY:UN Climate Change Conference
DESCRIPTION:Key information: UN Climate Change conferences (or COPs) take place every year\, and are the world’s only multilateral decision-making forum on climate change with almost complete membership of every country in the world.  During COP 28\, the world will come together to agree on ways to address the climate crisis. More than 70\,000 delegates are expected to attend COP28\, including the member states. Business leaders\, youth\, climate scientists and other stakeholders. Link:  https://unfccc.int/cop28
URL:https://www.asareca.org/event/un-climate-change-conference/
LOCATION:United Arab Emirates
CATEGORIES:Upcoming Event
END:VEVENT
END:VCALENDAR