BEGIN:VCALENDAR
VERSION:2.0
PRODID:-//ASARECA - ECPv6.14.2//NONSGML v1.0//EN
CALSCALE:GREGORIAN
METHOD:PUBLISH
X-WR-CALNAME:ASARECA
X-ORIGINAL-URL:https://www.asareca.org
X-WR-CALDESC:Events for ASARECA
REFRESH-INTERVAL;VALUE=DURATION:PT1H
X-Robots-Tag:noindex
X-PUBLISHED-TTL:PT1H
BEGIN:VTIMEZONE
TZID:UTC
BEGIN:STANDARD
TZOFFSETFROM:+0000
TZOFFSETTO:+0000
TZNAME:UTC
DTSTART:20240101T000000
END:STANDARD
END:VTIMEZONE
BEGIN:VEVENT
DTSTART;VALUE=DATE:20240212
DTEND;VALUE=DATE:20240214
DTSTAMP:20260420T025715
CREATED:20231115T161228Z
LAST-MODIFIED:20231115T161228Z
UID:10274-1707696000-1707868799@www.asareca.org
SUMMARY:The Eighth Global Meeting of the Farmers’ Forum
DESCRIPTION:Key information: The Farmers’ Forum is a bottom-up dialogue on rural development and poverty reduction between farmers’ organizations\, IFAD and governments. The 2024 global meeting brings together more than 80 farmers’ leaders from around the world\, representing millions of smallholders and rural producers who work with IFAD and partner institutions. The meeting will take stock of progress\, strengths and areas to improve\, as well as how to strengthen co-ownership and participation.
URL:https://www.asareca.org/event/the-eighth-global-meeting-of-the-farmers-forum/
CATEGORIES:Upcoming Event
END:VEVENT
END:VCALENDAR