BEGIN:VCALENDAR
VERSION:2.0
PRODID:-//ASARECA - ECPv6.14.2//NONSGML v1.0//EN
CALSCALE:GREGORIAN
METHOD:PUBLISH
X-WR-CALNAME:ASARECA
X-ORIGINAL-URL:https://www.asareca.org
X-WR-CALDESC:Events for ASARECA
REFRESH-INTERVAL;VALUE=DURATION:PT1H
X-Robots-Tag:noindex
X-PUBLISHED-TTL:PT1H
BEGIN:VTIMEZONE
TZID:UTC
BEGIN:STANDARD
TZOFFSETFROM:+0000
TZOFFSETTO:+0000
TZNAME:UTC
DTSTART:20240101T000000
END:STANDARD
END:VTIMEZONE
BEGIN:VEVENT
DTSTART;VALUE=DATE:20240902
DTEND;VALUE=DATE:20240907
DTSTAMP:20260419T155429
CREATED:20240819T085354Z
LAST-MODIFIED:20240819T085845Z
UID:13775-1725235200-1725667199@www.asareca.org
SUMMARY:The Africa Food Systems Forum 2024 Annual Summit
DESCRIPTION:Key information: The summit’s primary goal is to transform African food systems to ensure food security and foster job opportunities\, particularly for youth and women. The Africa Food Systems Forum 2024 using a multifaceted approach to addressing global challenges and opportunities in food systems transformation. The theme of the Summit is “Innovate\, Accelerate and Scale: Delivering food systems transformation in a digital and climate era.”\nhttps://agrf.org/
URL:https://www.asareca.org/event/the-africa-food-systems-forum-2024-annual-summit/
LOCATION:Kigali\, Rwanda
END:VEVENT
END:VCALENDAR