BEGIN:VCALENDAR
VERSION:2.0
PRODID:-//ASARECA - ECPv6.14.2//NONSGML v1.0//EN
CALSCALE:GREGORIAN
METHOD:PUBLISH
X-WR-CALNAME:ASARECA
X-ORIGINAL-URL:https://www.asareca.org
X-WR-CALDESC:Events for ASARECA
REFRESH-INTERVAL;VALUE=DURATION:PT1H
X-Robots-Tag:noindex
X-PUBLISHED-TTL:PT1H
BEGIN:VTIMEZONE
TZID:UTC
BEGIN:STANDARD
TZOFFSETFROM:+0000
TZOFFSETTO:+0000
TZNAME:UTC
DTSTART:20230101T000000
END:STANDARD
END:VTIMEZONE
BEGIN:VEVENT
DTSTART;VALUE=DATE:20230228
DTEND;VALUE=DATE:20230303
DTSTAMP:20260422T114639
CREATED:20231115T161118Z
LAST-MODIFIED:20231115T161118Z
UID:10271-1677542400-1677801599@www.asareca.org
SUMMARY:Africa Regional Forum on Sustainable Development 2023
DESCRIPTION:The ninth session of the Africa Regional Forum on Sustainable Development will be held on the theme\, ‘Accelerating the Inclusive and Green Recovery from Multiple Crises and the Integrated and Full Implementation of the 2030 Agenda for Sustainable Development and Agenda 2063’. The Forum is organized jointly by the UN Economic Commission for Africa (UNECA) and the Government of Niger\, in collaboration with the African Union Commission (AUC)\, the African Development Bank (AfDB)\, and other UN system entities. Link; www: https://www.uneca.org/arfsd2023
URL:https://www.asareca.org/event/africa-regional-forum-on-sustainable-development-2023/
LOCATION:Niamey\, Niger
CATEGORIES:Upcoming Event
END:VEVENT
END:VCALENDAR